BEGIN:VCALENDAR
VERSION:2.0
PRODID:-//Cook Memorial Library - ECPv6.15.20//NONSGML v1.0//EN
CALSCALE:GREGORIAN
METHOD:PUBLISH
X-WR-CALNAME:Cook Memorial Library
X-ORIGINAL-URL:https://www.cookmemoriallibrary.org
X-WR-CALDESC:Events for Cook Memorial Library
REFRESH-INTERVAL;VALUE=DURATION:PT1H
X-Robots-Tag:noindex
X-PUBLISHED-TTL:PT1H
BEGIN:VTIMEZONE
TZID:America/Los_Angeles
BEGIN:DAYLIGHT
TZOFFSETFROM:-0800
TZOFFSETTO:-0700
TZNAME:PDT
DTSTART:20250309T100000
END:DAYLIGHT
BEGIN:STANDARD
TZOFFSETFROM:-0700
TZOFFSETTO:-0800
TZNAME:PST
DTSTART:20251102T090000
END:STANDARD
BEGIN:DAYLIGHT
TZOFFSETFROM:-0800
TZOFFSETTO:-0700
TZNAME:PDT
DTSTART:20260308T100000
END:DAYLIGHT
BEGIN:STANDARD
TZOFFSETFROM:-0700
TZOFFSETTO:-0800
TZNAME:PST
DTSTART:20261101T090000
END:STANDARD
BEGIN:DAYLIGHT
TZOFFSETFROM:-0800
TZOFFSETTO:-0700
TZNAME:PDT
DTSTART:20270314T100000
END:DAYLIGHT
BEGIN:STANDARD
TZOFFSETFROM:-0700
TZOFFSETTO:-0800
TZNAME:PST
DTSTART:20271107T090000
END:STANDARD
END:VTIMEZONE
BEGIN:VEVENT
DTSTART;TZID=America/Los_Angeles:20260422T101500
DTEND;TZID=America/Los_Angeles:20260422T101500
DTSTAMP:20260421T045131
CREATED:20260305T173448Z
LAST-MODIFIED:20260305T173451Z
UID:22363-1776852900-1776852900@www.cookmemoriallibrary.org
SUMMARY:Bright Beginnings
DESCRIPTION:A movement and music class for children 0-3 and their caregivers. Please text Olivia at 541-786-2259 to register.
URL:https://www.cookmemoriallibrary.org/event/bright-beginnings-24/
LOCATION:Community Room
CATEGORIES:Children
END:VEVENT
BEGIN:VEVENT
DTSTART;TZID=America/Los_Angeles:20260422T160000
DTEND;TZID=America/Los_Angeles:20260422T170000
DTSTAMP:20260421T045131
CREATED:20260305T171741Z
LAST-MODIFIED:20260305T172840Z
UID:22341-1776873600-1776877200@www.cookmemoriallibrary.org
SUMMARY:Earth Day Extravaganza
DESCRIPTION:The EOU Chemistry Club will be here celebrating Earth Day with hands-on science activities for kids! This year’s theme is Into the Woods with Chemistry.
URL:https://www.cookmemoriallibrary.org/event/earth-day-extravaganza/
LOCATION:Community Room
CATEGORIES:Children
END:VEVENT
BEGIN:VEVENT
DTSTART;TZID=America/Los_Angeles:20260423T103000
DTEND;TZID=America/Los_Angeles:20260423T103000
DTSTAMP:20260421T045131
CREATED:20251230T233029Z
LAST-MODIFIED:20251230T233030Z
UID:22061-1776940200-1776940200@www.cookmemoriallibrary.org
SUMMARY:Storytime
DESCRIPTION:Join us for songs\, stories\, and a craft!
URL:https://www.cookmemoriallibrary.org/event/storytime-46/
LOCATION:Story Circle
CATEGORIES:Children
END:VEVENT
BEGIN:VEVENT
DTSTART;TZID=America/Los_Angeles:20260429T101500
DTEND;TZID=America/Los_Angeles:20260429T101500
DTSTAMP:20260421T045131
CREATED:20260305T173531Z
LAST-MODIFIED:20260305T173535Z
UID:22365-1777457700-1777457700@www.cookmemoriallibrary.org
SUMMARY:Bright Beginnings
DESCRIPTION:A movement and music class for children 0-3 and their caregivers. Please text Olivia at 541-786-2259 to register.
URL:https://www.cookmemoriallibrary.org/event/bright-beginnings-25/
LOCATION:Community Room
CATEGORIES:Children
END:VEVENT
BEGIN:VEVENT
DTSTART;TZID=America/Los_Angeles:20260430T103000
DTEND;TZID=America/Los_Angeles:20260430T103000
DTSTAMP:20260421T045131
CREATED:20251230T233053Z
LAST-MODIFIED:20251230T233054Z
UID:22063-1777545000-1777545000@www.cookmemoriallibrary.org
SUMMARY:Storytime
DESCRIPTION:Join us for songs\, stories\, and a craft!
URL:https://www.cookmemoriallibrary.org/event/storytime-47/
LOCATION:Story Circle
CATEGORIES:Children
END:VEVENT
BEGIN:VEVENT
DTSTART;TZID=America/Los_Angeles:20260501T160000
DTEND;TZID=America/Los_Angeles:20260501T160000
DTSTAMP:20260421T045131
CREATED:20260417T211540Z
LAST-MODIFIED:20260417T211544Z
UID:22527-1777651200-1777651200@www.cookmemoriallibrary.org
SUMMARY:An Afternoon with the Author
DESCRIPTION:Local children’s book author and illustrator Suzanne Achilles will be here to share her latest book\, Scroungeman the Fisherdog! Books will be available for purchase and Suzanne will be signing. \n\n\n\n\n\n\n\nScroungeman the Fisherdog
URL:https://www.cookmemoriallibrary.org/event/an-afternoon-with-the-author/
LOCATION:Community Room
CATEGORIES:Adult,All Ages,Authors,Children,Families
END:VEVENT
BEGIN:VEVENT
DTSTART;TZID=America/Los_Angeles:20260506T101500
DTEND;TZID=America/Los_Angeles:20260506T101500
DTSTAMP:20260421T045131
CREATED:20260305T173605Z
LAST-MODIFIED:20260305T173607Z
UID:22367-1778062500-1778062500@www.cookmemoriallibrary.org
SUMMARY:Bright Beginnings
DESCRIPTION:A movement and music class for children 0-3 and their caregivers. Please text Olivia at 541-786-2259 to register.
URL:https://www.cookmemoriallibrary.org/event/bright-beginnings-26/
LOCATION:Community Room
CATEGORIES:Children
END:VEVENT
BEGIN:VEVENT
DTSTART;TZID=America/Los_Angeles:20260507T103000
DTEND;TZID=America/Los_Angeles:20260507T103000
DTSTAMP:20260421T045131
CREATED:20251230T233120Z
LAST-MODIFIED:20251230T233122Z
UID:22065-1778149800-1778149800@www.cookmemoriallibrary.org
SUMMARY:Storytime
DESCRIPTION:Join us for songs\, stories\, and a craft!
URL:https://www.cookmemoriallibrary.org/event/storytime-48/
LOCATION:Story Circle
CATEGORIES:Children
END:VEVENT
BEGIN:VEVENT
DTSTART;TZID=America/Los_Angeles:20260514T103000
DTEND;TZID=America/Los_Angeles:20260514T103000
DTSTAMP:20260421T045131
CREATED:20251230T233142Z
LAST-MODIFIED:20251230T233143Z
UID:22067-1778754600-1778754600@www.cookmemoriallibrary.org
SUMMARY:Storytime
DESCRIPTION:Join us for songs\, stories\, and a craft!
URL:https://www.cookmemoriallibrary.org/event/storytime-49/
LOCATION:Story Circle
CATEGORIES:Children
END:VEVENT
BEGIN:VEVENT
DTSTART;TZID=America/Los_Angeles:20260521T103000
DTEND;TZID=America/Los_Angeles:20260521T103000
DTSTAMP:20260421T045131
CREATED:20251230T233206Z
LAST-MODIFIED:20251230T233207Z
UID:22069-1779359400-1779359400@www.cookmemoriallibrary.org
SUMMARY:Storytime
DESCRIPTION:Join us for songs\, stories\, and a craft!
URL:https://www.cookmemoriallibrary.org/event/storytime-50/
LOCATION:Story Circle
CATEGORIES:Children
END:VEVENT
BEGIN:VEVENT
DTSTART;TZID=America/Los_Angeles:20260528T103000
DTEND;TZID=America/Los_Angeles:20260528T103000
DTSTAMP:20260421T045131
CREATED:20251230T233235Z
LAST-MODIFIED:20251230T233237Z
UID:22071-1779964200-1779964200@www.cookmemoriallibrary.org
SUMMARY:Storytime
DESCRIPTION:Join us for songs\, stories\, and a craft!
URL:https://www.cookmemoriallibrary.org/event/storytime-51/
LOCATION:Story Circle
CATEGORIES:Children
END:VEVENT
BEGIN:VEVENT
DTSTART;TZID=America/Los_Angeles:20260604T103000
DTEND;TZID=America/Los_Angeles:20260604T103000
DTSTAMP:20260421T045131
CREATED:20251230T233256Z
LAST-MODIFIED:20251230T233258Z
UID:22073-1780569000-1780569000@www.cookmemoriallibrary.org
SUMMARY:Storytime
DESCRIPTION:Join us for songs\, stories\, and a craft!
URL:https://www.cookmemoriallibrary.org/event/storytime-52/
LOCATION:Story Circle
CATEGORIES:Children
END:VEVENT
BEGIN:VEVENT
DTSTART;TZID=America/Los_Angeles:20260611T103000
DTEND;TZID=America/Los_Angeles:20260611T103000
DTSTAMP:20260421T045131
CREATED:20251230T233317Z
LAST-MODIFIED:20251230T233319Z
UID:22075-1781173800-1781173800@www.cookmemoriallibrary.org
SUMMARY:Storytime
DESCRIPTION:Join us for songs\, stories\, and a craft!
URL:https://www.cookmemoriallibrary.org/event/storytime-53/
LOCATION:Story Circle
CATEGORIES:Children
END:VEVENT
BEGIN:VEVENT
DTSTART;TZID=America/Los_Angeles:20260618T103000
DTEND;TZID=America/Los_Angeles:20260618T103000
DTSTAMP:20260421T045131
CREATED:20251230T233341Z
LAST-MODIFIED:20251230T233342Z
UID:22077-1781778600-1781778600@www.cookmemoriallibrary.org
SUMMARY:Storytime
DESCRIPTION:Join us for songs\, stories\, and a craft!
URL:https://www.cookmemoriallibrary.org/event/storytime-54/
LOCATION:Story Circle
CATEGORIES:Children
END:VEVENT
BEGIN:VEVENT
DTSTART;TZID=America/Los_Angeles:20260625T103000
DTEND;TZID=America/Los_Angeles:20260625T103000
DTSTAMP:20260421T045131
CREATED:20251230T233401Z
LAST-MODIFIED:20251230T233402Z
UID:22079-1782383400-1782383400@www.cookmemoriallibrary.org
SUMMARY:Storytime
DESCRIPTION:Join us for songs\, stories\, and a craft!
URL:https://www.cookmemoriallibrary.org/event/storytime-55/
LOCATION:Story Circle
CATEGORIES:Children
END:VEVENT
BEGIN:VEVENT
DTSTART;TZID=America/Los_Angeles:20260702T103000
DTEND;TZID=America/Los_Angeles:20260702T103000
DTSTAMP:20260421T045131
CREATED:20251230T233424Z
LAST-MODIFIED:20251230T233425Z
UID:22081-1782988200-1782988200@www.cookmemoriallibrary.org
SUMMARY:Storytime
DESCRIPTION:Join us for songs\, stories\, and a craft!
URL:https://www.cookmemoriallibrary.org/event/storytime-56/
LOCATION:Story Circle
CATEGORIES:Children
END:VEVENT
BEGIN:VEVENT
DTSTART;TZID=America/Los_Angeles:20260709T103000
DTEND;TZID=America/Los_Angeles:20260709T103000
DTSTAMP:20260421T045131
CREATED:20251230T233449Z
LAST-MODIFIED:20251230T233451Z
UID:22083-1783593000-1783593000@www.cookmemoriallibrary.org
SUMMARY:Storytime
DESCRIPTION:Join us for songs\, stories\, and a craft!
URL:https://www.cookmemoriallibrary.org/event/storytime-57/
LOCATION:Story Circle
CATEGORIES:Children
END:VEVENT
BEGIN:VEVENT
DTSTART;TZID=America/Los_Angeles:20260716T103000
DTEND;TZID=America/Los_Angeles:20260716T103000
DTSTAMP:20260421T045131
CREATED:20251230T233514Z
LAST-MODIFIED:20251230T233515Z
UID:22085-1784197800-1784197800@www.cookmemoriallibrary.org
SUMMARY:Storytime
DESCRIPTION:Join us for songs\, stories\, and a craft!
URL:https://www.cookmemoriallibrary.org/event/storytime-58/
LOCATION:Story Circle
CATEGORIES:Children
END:VEVENT
BEGIN:VEVENT
DTSTART;TZID=America/Los_Angeles:20260723T103000
DTEND;TZID=America/Los_Angeles:20260723T103000
DTSTAMP:20260421T045131
CREATED:20251230T233535Z
LAST-MODIFIED:20251230T233536Z
UID:22087-1784802600-1784802600@www.cookmemoriallibrary.org
SUMMARY:Storytime
DESCRIPTION:Join us for songs\, stories\, and a craft!
URL:https://www.cookmemoriallibrary.org/event/storytime-59/
LOCATION:Story Circle
CATEGORIES:Children
END:VEVENT
BEGIN:VEVENT
DTSTART;TZID=America/Los_Angeles:20260730T103000
DTEND;TZID=America/Los_Angeles:20260730T103000
DTSTAMP:20260421T045131
CREATED:20251230T233555Z
LAST-MODIFIED:20251230T233557Z
UID:22089-1785407400-1785407400@www.cookmemoriallibrary.org
SUMMARY:Storytime
DESCRIPTION:Join us for songs\, stories\, and a craft!
URL:https://www.cookmemoriallibrary.org/event/storytime-60/
LOCATION:Story Circle
CATEGORIES:Children
END:VEVENT
BEGIN:VEVENT
DTSTART;TZID=America/Los_Angeles:20260806T103000
DTEND;TZID=America/Los_Angeles:20260806T103000
DTSTAMP:20260421T045131
CREATED:20251230T233615Z
LAST-MODIFIED:20251230T233617Z
UID:22091-1786012200-1786012200@www.cookmemoriallibrary.org
SUMMARY:Storytime
DESCRIPTION:Join us for songs\, stories\, and a craft!
URL:https://www.cookmemoriallibrary.org/event/storytime-61/
LOCATION:Story Circle
CATEGORIES:Children
END:VEVENT
BEGIN:VEVENT
DTSTART;TZID=America/Los_Angeles:20260813T103000
DTEND;TZID=America/Los_Angeles:20260813T103000
DTSTAMP:20260421T045131
CREATED:20251230T233634Z
LAST-MODIFIED:20251230T233636Z
UID:22093-1786617000-1786617000@www.cookmemoriallibrary.org
SUMMARY:Storytime
DESCRIPTION:Join us for songs\, stories\, and a craft!
URL:https://www.cookmemoriallibrary.org/event/storytime-62/
LOCATION:Story Circle
CATEGORIES:Children
END:VEVENT
BEGIN:VEVENT
DTSTART;TZID=America/Los_Angeles:20260820T103000
DTEND;TZID=America/Los_Angeles:20260820T103000
DTSTAMP:20260421T045131
CREATED:20251230T233653Z
LAST-MODIFIED:20251230T233654Z
UID:22095-1787221800-1787221800@www.cookmemoriallibrary.org
SUMMARY:Storytime
DESCRIPTION:Join us for songs\, stories\, and a craft!
URL:https://www.cookmemoriallibrary.org/event/storytime-63/
LOCATION:Story Circle
CATEGORIES:Children
END:VEVENT
BEGIN:VEVENT
DTSTART;TZID=America/Los_Angeles:20260827T103000
DTEND;TZID=America/Los_Angeles:20260827T103000
DTSTAMP:20260421T045131
CREATED:20251230T233715Z
LAST-MODIFIED:20251230T233716Z
UID:22097-1787826600-1787826600@www.cookmemoriallibrary.org
SUMMARY:Storytime
DESCRIPTION:Join us for songs\, stories\, and a craft!
URL:https://www.cookmemoriallibrary.org/event/storytime-64/
LOCATION:Story Circle
CATEGORIES:Children
END:VEVENT
BEGIN:VEVENT
DTSTART;TZID=America/Los_Angeles:20260903T103000
DTEND;TZID=America/Los_Angeles:20260903T103000
DTSTAMP:20260421T045131
CREATED:20251230T233739Z
LAST-MODIFIED:20251230T233740Z
UID:22099-1788431400-1788431400@www.cookmemoriallibrary.org
SUMMARY:Storytime
DESCRIPTION:Join us for songs\, stories\, and a craft!
URL:https://www.cookmemoriallibrary.org/event/storytime-65/
LOCATION:Story Circle
CATEGORIES:Children
END:VEVENT
BEGIN:VEVENT
DTSTART;TZID=America/Los_Angeles:20260910T103000
DTEND;TZID=America/Los_Angeles:20260910T103000
DTSTAMP:20260421T045131
CREATED:20251230T233757Z
LAST-MODIFIED:20251230T233759Z
UID:22101-1789036200-1789036200@www.cookmemoriallibrary.org
SUMMARY:Storytime
DESCRIPTION:Join us for songs\, stories\, and a craft!
URL:https://www.cookmemoriallibrary.org/event/storytime-66/
LOCATION:Story Circle
CATEGORIES:Children
END:VEVENT
BEGIN:VEVENT
DTSTART;TZID=America/Los_Angeles:20260917T103000
DTEND;TZID=America/Los_Angeles:20260917T103000
DTSTAMP:20260421T045131
CREATED:20251230T233818Z
LAST-MODIFIED:20251230T233832Z
UID:22103-1789641000-1789641000@www.cookmemoriallibrary.org
SUMMARY:Storytime
DESCRIPTION:Join us for songs\, stories\, and a craft!
URL:https://www.cookmemoriallibrary.org/event/storytime-67/
LOCATION:Story Circle
CATEGORIES:Children
END:VEVENT
BEGIN:VEVENT
DTSTART;TZID=America/Los_Angeles:20260924T103000
DTEND;TZID=America/Los_Angeles:20260924T103000
DTSTAMP:20260421T045131
CREATED:20251230T233851Z
LAST-MODIFIED:20251230T233852Z
UID:22105-1790245800-1790245800@www.cookmemoriallibrary.org
SUMMARY:Storytime
DESCRIPTION:Join us for songs\, stories\, and a craft!
URL:https://www.cookmemoriallibrary.org/event/storytime-68/
LOCATION:Story Circle
CATEGORIES:Children
END:VEVENT
BEGIN:VEVENT
DTSTART;TZID=America/Los_Angeles:20261001T103000
DTEND;TZID=America/Los_Angeles:20261001T103000
DTSTAMP:20260421T045131
CREATED:20251230T233910Z
LAST-MODIFIED:20251230T233912Z
UID:22107-1790850600-1790850600@www.cookmemoriallibrary.org
SUMMARY:Storytime
DESCRIPTION:Join us for songs\, stories\, and a craft!
URL:https://www.cookmemoriallibrary.org/event/storytime-69/
LOCATION:Story Circle
CATEGORIES:Children
END:VEVENT
BEGIN:VEVENT
DTSTART;TZID=America/Los_Angeles:20261008T103000
DTEND;TZID=America/Los_Angeles:20261008T103000
DTSTAMP:20260421T045131
CREATED:20251230T233931Z
LAST-MODIFIED:20251230T233932Z
UID:22109-1791455400-1791455400@www.cookmemoriallibrary.org
SUMMARY:Storytime
DESCRIPTION:Join us for songs\, stories\, and a craft!
URL:https://www.cookmemoriallibrary.org/event/storytime-70/
LOCATION:Story Circle
CATEGORIES:Children
END:VEVENT
END:VCALENDAR